BEGIN:VCALENDAR
VERSION:2.0
PRODID:SchoolNow
CALSCALE:GREGORIAN
BEGIN:VEVENT
UID:bf6c8d06-efd1-11f0-8563-0a58a9feac02
DTSTAMP:20260112T161418Z
SUMMARY:Summer Semester Ends
URL;VALUE=URI:https://www.nltcc.edu/calendar/8834958/summer-semester-ends
DTSTART;VALUE=DATE:20260717
DTEND;VALUE=DATE:20260718
END:VEVENT
END:VCALENDAR
