BEGIN:VCALENDAR
VERSION:2.0
PRODID:SchoolNow
CALSCALE:GREGORIAN
BEGIN:VEVENT
UID:74a0c520-373a-11f1-b809-0affe2f53d8d
DTSTAMP:20260420T144550Z
SUMMARY:Phi Theta Kappa Induction Ceremony
LOCATION:Minden Campus
URL;VALUE=URI:https://www.nltcc.edu/calendar/8990817/phi-theta-kappa-induct
 ion-ceremony
DTSTART:20260430T183000Z
DTEND:20260430T193000Z
ATTACH;FILENAME=ptk.jpg;FMTTYPE=image/jpeg:https://campussuite-storage.s3.a
 mazonaws.com/prod/1558766/5f3483b4-90ef-11e9-b67b-12dad1543caa/3090878/9bb
 5c150-3cc7-11f1-a5af-0a58a9feac02/file/ptk.jpg
END:VEVENT
END:VCALENDAR
