BEGIN:VCALENDAR
VERSION:2.0
PRODID:SchoolNow
CALSCALE:GREGORIAN
BEGIN:VEVENT
UID:a0039a76-373a-11f1-9586-0affe2f53d8d
DTSTAMP:20260413T131355Z
SUMMARY:Minden Health and Resource Fair
URL;VALUE=URI:https://www.nltcc.edu/calendar/8990818/minden-health-and-reso
 urce-fair
DTSTART:20260423T150000Z
DTEND:20260423T180000Z
END:VEVENT
END:VCALENDAR
