BEGIN:VCALENDAR
VERSION:2.0
PRODID:SchoolNow
CALSCALE:GREGORIAN
BEGIN:VEVENT
UID:f29fc7d2-373a-11f1-971b-0a58a9feac02
DTSTAMP:20260413T131614Z
SUMMARY:Fall Semester Begins
URL;VALUE=URI:https://www.nltcc.edu/calendar/8990819/fall-semester-begins
DTSTART;VALUE=DATE:20260810
DTEND;VALUE=DATE:20260811
END:VEVENT
END:VCALENDAR
