BEGIN:VCALENDAR
VERSION:2.0
PRODID:SchoolNow
CALSCALE:GREGORIAN
BEGIN:VEVENT
UID:0609246c-373b-11f1-a202-0e19a9c413cb
DTSTAMP:20260413T131646Z
SUMMARY:Labor Day Holiday - College Closed
URL;VALUE=URI:https://www.nltcc.edu/calendar/8990820/labor-day-holiday-coll
 ege-closed
DTSTART;VALUE=DATE:20260907
DTEND;VALUE=DATE:20260908
END:VEVENT
END:VCALENDAR
