BEGIN:VCALENDAR
VERSION:2.0
PRODID:SchoolNow
CALSCALE:GREGORIAN
BEGIN:VEVENT
UID:1a490974-373b-11f1-b450-0affc0f1d53d
DTSTAMP:20260413T131720Z
SUMMARY:Student Fall Break
URL;VALUE=URI:https://www.nltcc.edu/calendar/8990821/student-fall-break
DTSTART;VALUE=DATE:20261005
DTEND;VALUE=DATE:20261010
END:VEVENT
END:VCALENDAR
