BEGIN:VCALENDAR
VERSION:2.0
PRODID:SchoolNow
CALSCALE:GREGORIAN
BEGIN:VEVENT
UID:2cb6ab3e-373b-11f1-afb3-0ee5737ebb0b
DTSTAMP:20260413T131751Z
SUMMARY:Current Student Registration for Spring 2026 Opens
URL;VALUE=URI:https://www.nltcc.edu/calendar/8990822/current-student-regist
 ration-for-spring-2026-opens
DTSTART;VALUE=DATE:20261019
DTEND;VALUE=DATE:20261020
END:VEVENT
END:VCALENDAR
