BEGIN:VCALENDAR
VERSION:2.0
PRODID:SchoolNow
CALSCALE:GREGORIAN
BEGIN:VEVENT
UID:3ae3bada-373b-11f1-b7f4-0affe2f53d8d
DTSTAMP:20260413T131815Z
SUMMARY:New Student Registration for Spring 2026 Opens
URL;VALUE=URI:https://www.nltcc.edu/calendar/8990823/new-student-registrati
 on-for-spring-2026-opens
DTSTART;VALUE=DATE:20261026
DTEND;VALUE=DATE:20261027
END:VEVENT
END:VCALENDAR
