BEGIN:VCALENDAR
VERSION:2.0
PRODID:SchoolNow
CALSCALE:GREGORIAN
BEGIN:VEVENT
UID:5b9ed106-373b-11f1-bc06-0a58a9feac02
DTSTAMP:20260413T131910Z
SUMMARY:Student & 9-month Faculty Holiday (Thanksgiving)
URL;VALUE=URI:https://www.nltcc.edu/calendar/8990824/student-9-month-facult
 y-holiday-thanksgiving
DTSTART;VALUE=DATE:20261123
DTEND;VALUE=DATE:20261128
END:VEVENT
END:VCALENDAR
