BEGIN:VCALENDAR
VERSION:2.0
PRODID:SchoolNow
CALSCALE:GREGORIAN
BEGIN:VEVENT
UID:6828acf8-373b-11f1-8f91-0ee5737ebb0b
DTSTAMP:20260413T131931Z
SUMMARY:Campus Open - No Classes
URL;VALUE=URI:https://www.nltcc.edu/calendar/8990825/campus-open-no-classes
DTSTART;VALUE=DATE:20261123
DTEND;VALUE=DATE:20261126
END:VEVENT
END:VCALENDAR
