BEGIN:VCALENDAR
VERSION:2.0
PRODID:SchoolNow
CALSCALE:GREGORIAN
BEGIN:VEVENT
UID:7637a966-373b-11f1-9d27-0a58a9feac02
DTSTAMP:20260413T131955Z
SUMMARY:Employee Holidays - College Closed
URL;VALUE=URI:https://www.nltcc.edu/calendar/8990826/employee-holidays-coll
 ege-closed
DTSTART:20261126T141900Z
DTEND:20261127T151900Z
END:VEVENT
END:VCALENDAR
