BEGIN:VCALENDAR
VERSION:2.0
PRODID:SchoolNow
CALSCALE:GREGORIAN
BEGIN:VEVENT
UID:846482de-373b-11f1-948a-0a58a9feac02
DTSTAMP:20260413T132018Z
SUMMARY:Fall Semester Ends
URL;VALUE=URI:https://www.nltcc.edu/calendar/8990827/fall-semester-ends
DTSTART;VALUE=DATE:20261211
DTEND;VALUE=DATE:20261212
END:VEVENT
END:VCALENDAR
