BEGIN:VCALENDAR
VERSION:2.0
PRODID:SchoolNow
CALSCALE:GREGORIAN
BEGIN:VEVENT
UID:95da84a0-373b-11f1-a323-0a58a9feac02
DTSTAMP:20260413T132048Z
SUMMARY:Fall Graduation
URL;VALUE=URI:https://www.nltcc.edu/calendar/8990828/fall-graduation
DTSTART;VALUE=DATE:20261215
DTEND;VALUE=DATE:20261216
END:VEVENT
END:VCALENDAR
